BEGIN:VCALENDAR
VERSION:2.0
PRODID:-//NZTim//Calendar//EN
METHOD:PUBLISH
CALSCALE:GREGORIAN
PREFERRED_LANGUAGE:EN
X-WR-CALNAME:Sudarshanaloka Events Calendar
X-WR-TIMEZONE:Pacific/Auckland
BEGIN:VEVENT
UID:e9bbad709cbce9aac181bacd5318d9ef
SUMMARY:The Greater Mandala and the Crucible of Sangha
DTSTART:20191121T183000
DTEND:20191124T130000
SEQUENCE:0
END:VEVENT
BEGIN:VEVENT
UID:ceb40570da1cbc05fb50669033da07d1
SUMMARY:Working in Nature at Sudarshanaloka
DTSTART:20191206T190000
DTEND:20191208T120000
SEQUENCE:0
END:VEVENT
BEGIN:VEVENT
UID:44d50535d075f16e42d5bb4910264adb
SUMMARY:New Year's Retreat on Empathy
DTSTART:20191228T180000
DTEND:20200102T120000
SEQUENCE:0
END:VEVENT
BEGIN:VEVENT
UID:b9ba35859c44c8b35cbd8bb7dabc4d51
SUMMARY:Simply Being
DTSTART:20200104T180000
DTEND:20200118T120000
SEQUENCE:0
END:VEVENT
BEGIN:VEVENT
UID:5e3d37ae3a0cb55d45aca211432959ad
SUMMARY:STUPAcalifragilisticexpialidocious!
DTSTART:20200123T183000
DTEND:20200127T130000
SEQUENCE:0
END:VEVENT
BEGIN:VEVENT
UID:b33e47fcc8c1501c4d191b4060624285
SUMMARY:Stupa Anniversary Celebration
DTSTART:20200215T183000
DTEND:20200216T150000
SEQUENCE:0
END:VEVENT
BEGIN:VEVENT
UID:525cc11158f4cb984d077fb178e47f16
SUMMARY:Nourishing Body & Mind
DTSTART:20200221T190000
DTEND:20200223T130000
SEQUENCE:0
END:VEVENT
BEGIN:VEVENT
UID:7e40201ac625d7a5158cf414d350c70f
SUMMARY:Under 35s Retreat
DTSTART:20200327T190000
DTEND:20200330T120000
SEQUENCE:0
END:VEVENT
END:VCALENDAR
